BEGIN:VCALENDAR
VERSION:2.0
PRODID:-//Preferred Family Care - ECPv6.15.20//NONSGML v1.0//EN
CALSCALE:GREGORIAN
METHOD:PUBLISH
X-ORIGINAL-URL:https://pfcareinc.com
X-WR-CALDESC:Events for Preferred Family Care
REFRESH-INTERVAL;VALUE=DURATION:PT1H
X-Robots-Tag:noindex
X-PUBLISHED-TTL:PT1H
BEGIN:VTIMEZONE
TZID:America/New_York
BEGIN:DAYLIGHT
TZOFFSETFROM:-0500
TZOFFSETTO:-0400
TZNAME:EDT
DTSTART:20210314T070000
END:DAYLIGHT
BEGIN:STANDARD
TZOFFSETFROM:-0400
TZOFFSETTO:-0500
TZNAME:EST
DTSTART:20211107T060000
END:STANDARD
BEGIN:DAYLIGHT
TZOFFSETFROM:-0500
TZOFFSETTO:-0400
TZNAME:EDT
DTSTART:20220313T070000
END:DAYLIGHT
BEGIN:STANDARD
TZOFFSETFROM:-0400
TZOFFSETTO:-0500
TZNAME:EST
DTSTART:20221106T060000
END:STANDARD
BEGIN:DAYLIGHT
TZOFFSETFROM:-0500
TZOFFSETTO:-0400
TZNAME:EDT
DTSTART:20230312T070000
END:DAYLIGHT
BEGIN:STANDARD
TZOFFSETFROM:-0400
TZOFFSETTO:-0500
TZNAME:EST
DTSTART:20231105T060000
END:STANDARD
BEGIN:DAYLIGHT
TZOFFSETFROM:-0500
TZOFFSETTO:-0400
TZNAME:EDT
DTSTART:20240310T070000
END:DAYLIGHT
BEGIN:STANDARD
TZOFFSETFROM:-0400
TZOFFSETTO:-0500
TZNAME:EST
DTSTART:20241103T060000
END:STANDARD
BEGIN:DAYLIGHT
TZOFFSETFROM:-0500
TZOFFSETTO:-0400
TZNAME:EDT
DTSTART:20250309T070000
END:DAYLIGHT
BEGIN:STANDARD
TZOFFSETFROM:-0400
TZOFFSETTO:-0500
TZNAME:EST
DTSTART:20251102T060000
END:STANDARD
BEGIN:DAYLIGHT
TZOFFSETFROM:-0500
TZOFFSETTO:-0400
TZNAME:EDT
DTSTART:20260308T070000
END:DAYLIGHT
BEGIN:STANDARD
TZOFFSETFROM:-0400
TZOFFSETTO:-0500
TZNAME:EST
DTSTART:20261101T060000
END:STANDARD
END:VTIMEZONE
BEGIN:VEVENT
DTSTART;TZID=America/New_York:20250101T080000
DTEND;TZID=America/New_York:20250101T170000
DTSTAMP:20260419T193713
CREATED:20250623T022918Z
LAST-MODIFIED:20250728T085913Z
UID:10000014-1735718400-1735750800@pfcareinc.com
SUMMARY:New Year's Day
DESCRIPTION:
URL:https://pfcareinc.com/event/new-years-day/
ATTACH;FMTTYPE=image/webp:https://pfcareinc.com/wp-content/uploads/2025/06/gettyimages-474522956-2048x2048-1-scaled.webp
END:VEVENT
BEGIN:VEVENT
DTSTART;TZID=America/New_York:20231117T110000
DTEND;TZID=America/New_York:20231117T140000
DTSTAMP:20260419T193713
CREATED:20250530T104604Z
LAST-MODIFIED:20250728T085936Z
UID:10000006-1700218800-1700229600@pfcareinc.com
SUMMARY:Open Enrollment Party - POMPANO BEACH
DESCRIPTION:We invite you to join us for our open enrollment kick-off event !  \nTaking place at Preferred Family Care (Broward)\n\n(703 South Dixie Highway W\,\nPompano Beach Florida 33060) \nJoin us for lunch\, music\, and special prizes! -Featuring special guest TonTon Desirab !
URL:https://pfcareinc.com/event/open-enrollment-party-pompano-beach/
ATTACH;FMTTYPE=image/jpeg:https://pfcareinc.com/wp-content/uploads/2025/07/6883e5462fd85_pompano-lobby.jpg
END:VEVENT
BEGIN:VEVENT
DTSTART;TZID=America/New_York:20230527T100000
DTEND;TZID=America/New_York:20230527T130000
DTSTAMP:20260419T193713
CREATED:20250530T104747Z
LAST-MODIFIED:20250728T090016Z
UID:10000007-1685181600-1685192400@pfcareinc.com
SUMMARY:Mother's Day Celebration - NORTH MIAMI BEACH
DESCRIPTION:We invite you to join us for our special Mother’s Day event !  \nTaking place at Preferred Family Care (Miami-Dade) on May 27th\, 2023.  \n(16853 NE 2nd Ave Suite 101 North\nMiami Beach\, Florida 33162) \nJoin us for lunch\, music\, and special prizes! -Featuring special guest TonTon Desirab !
URL:https://pfcareinc.com/event/mothers-day-celebration-north-miami-beach-2/
ATTACH;FMTTYPE=image/jpeg:https://pfcareinc.com/wp-content/uploads/2025/07/6883e546232f6_miami.jpg
END:VEVENT
BEGIN:VEVENT
DTSTART;TZID=America/New_York:20221216T100000
DTEND;TZID=America/New_York:20221216T130000
DTSTAMP:20260419T193713
CREATED:20250530T104922Z
LAST-MODIFIED:20250728T090030Z
UID:10000008-1671184800-1671195600@pfcareinc.com
SUMMARY:Holiday Celebration - NORTH MIAMI BEACH
DESCRIPTION:We invite you to join us for our Annual Holiday celebration ! Taking place at Preferred Family Care (Miami-Dade) on December 16th\, 2022.  \n(16853 NE 2nd Ave Suite 101 North\nMiami Beach Florida\, 33162) \nCome enjoy lunch with your favorite medical clinic. There will be music\, a meet & greet with your doctor and refreshments!
URL:https://pfcareinc.com/event/holiday-celebration-north-miami-beach/
ATTACH;FMTTYPE=image/jpeg:https://pfcareinc.com/wp-content/uploads/2025/07/6883e546232f6_miami.jpg
END:VEVENT
BEGIN:VEVENT
DTSTART;TZID=America/New_York:20221123T120000
DTEND;TZID=America/New_York:20221123T140000
DTSTAMP:20260419T193713
CREATED:20250530T105057Z
LAST-MODIFIED:20250728T090118Z
UID:10000009-1669204800-1669212000@pfcareinc.com
SUMMARY:Thanksgiving Lunch - NORTH MIAMI BEACH
DESCRIPTION:We invite you to join us for our Thanksgiving lunch! Taking place at Preferred Family Care (Miami-Dade) on November 23rd\, 2022.  \n(16853 NE 2nd Ave Suite 101 NorthMiami Beach Florida\, 33162) \nCome enjoy lunch with your favorite medical clinic. There will be music\, a meet & greet with your doctor and lots of food!
URL:https://pfcareinc.com/event/thanksgiving-lunch-north-miami-beach/
ATTACH;FMTTYPE=image/jpeg:https://pfcareinc.com/wp-content/uploads/2025/07/6883e546232f6_miami.jpg
END:VEVENT
BEGIN:VEVENT
DTSTART;TZID=America/New_York:20221105T100000
DTEND;TZID=America/New_York:20221105T130000
DTSTAMP:20260419T193713
CREATED:20250530T105227Z
LAST-MODIFIED:20250728T090159Z
UID:10000010-1667642400-1667653200@pfcareinc.com
SUMMARY:Family Health Fair - NORTH MIAMI BEACH
DESCRIPTION:We invite you to join us for our Health Fair! Taking place at Preferred Family Care (Miami-Dade) \n(16853 NE 2nd Ave Suite 101 North\nMiami Beach Florida\, 33162) \nCome enjoy a fun-filled event with music\, raffles a meet & greet with your doctor and more!
URL:https://pfcareinc.com/event/family-health-fair-north-miami-beach/
ATTACH;FMTTYPE=image/jpeg:https://pfcareinc.com/wp-content/uploads/2025/07/6883e546232f6_miami.jpg
END:VEVENT
BEGIN:VEVENT
DTSTART;TZID=America/New_York:20221022T100000
DTEND;TZID=America/New_York:20221022T120000
DTSTAMP:20260419T193713
CREATED:20250530T105437Z
LAST-MODIFIED:20250728T090209Z
UID:10000011-1666432800-1666440000@pfcareinc.com
SUMMARY:Breast Cancer Awareness Event - POMPANO BEACH
DESCRIPTION:We invite you to join us for our Health Fair! Taking place at First Haitian Baptist Church \n(333 NW 3rd Street\, Pompano Beach\nFlorida 33060) \nFeaturing live presentations from Dr. Patrick Romeus  \nand Dr. Romane Joseph for Breast Cancer Awareness month.
URL:https://pfcareinc.com/event/breast-cancer-awareness-event-pompano-beach/
ATTACH;FMTTYPE=image/jpeg:https://pfcareinc.com/wp-content/uploads/2025/07/6883e5462fd85_pompano-lobby.jpg
END:VEVENT
BEGIN:VEVENT
DTSTART;TZID=America/New_York:20220909T100000
DTEND;TZID=America/New_York:20220909T120000
DTSTAMP:20260419T193713
CREATED:20250530T105634Z
LAST-MODIFIED:20250728T090217Z
UID:10000012-1662717600-1662724800@pfcareinc.com
SUMMARY:Family Health Fair - POMPANO BEACH
DESCRIPTION:We invite you to join us for our Health Fair ! Taking place at Fairview Park  \n(801 SW 8th Street\, Pompano Beach\,\nFlorida 33060) \nCome enjoy a fun-filled event with music\, giveaways\, a meet & greet with your doctor and more!
URL:https://pfcareinc.com/event/family-health-fair-pompano-beach/
ATTACH;FMTTYPE=image/jpeg:https://pfcareinc.com/wp-content/uploads/2025/07/6883e5462fd85_pompano-lobby.jpg
END:VEVENT
END:VCALENDAR